BEGIN:VCALENDAR
VERSION:2.0
PRODID:-//Bridge Investment Consultancy - ECPv6.8.3//NONSGML v1.0//EN
CALSCALE:GREGORIAN
METHOD:PUBLISH
X-ORIGINAL-URL:https://bridgeinvestmentconsultancy.com
X-WR-CALDESC:Events for Bridge Investment Consultancy
REFRESH-INTERVAL;VALUE=DURATION:PT1H
X-Robots-Tag:noindex
X-PUBLISHED-TTL:PT1H
BEGIN:VTIMEZONE
TZID:Europe/Moscow
BEGIN:STANDARD
TZOFFSETFROM:+0300
TZOFFSETTO:+0300
TZNAME:MSK
DTSTART:20250101T000000
END:STANDARD
TZID:UTC
BEGIN:STANDARD
TZOFFSETFROM:+0000
TZOFFSETTO:+0000
TZNAME:UTC
DTSTART:20260101T000000
END:STANDARD
END:VTIMEZONE
BEGIN:VEVENT
DTSTART;TZID=Europe/Moscow:20250721T090000
DTEND;TZID=Europe/Moscow:20250722T120000
DTSTAMP:20260426T042217
CREATED:20241211T114635Z
LAST-MODIFIED:20250519T095525Z
UID:531-1753088400-1753185600@bridgeinvestmentconsultancy.com
SUMMARY:3rd Africa Trade and Investment Summit
DESCRIPTION:The 3rd Africa Trade and Investment Summit (ATIS)\, organized by Investment Center of Africa Ltd (ICOA)\, is your chance to explore new collaboration opportunities among financial institutions\, investors\, and business leaders. \nTheme: Empowering Banking and Financial Institutions for Growth and Partnerships \n🔑 Key Benefits: \n\nConnect with leaders and experts\nDiscover new business partnerships\nStay updated on banking innovations\nEnhance credibility and trust\n\n👥 Who Can Participate? \n\n Government officials and Embassies\nCentral bank governors\nBanking and microfinance firms\nInvestors\, Entrepreneurs and CEO’s\nFintech startups and Insurance companies\nAcademics\, researchers and Venture Capitalists
URL:https://bridgeinvestmentconsultancy.com/event/3rd-africa-trade-and-investment-summit/
ATTACH;FMTTYPE=image/jpeg:https://bridgeinvestmentconsultancy.com/wp-content/uploads/2024/12/updated-banner.jpg
END:VEVENT
BEGIN:VEVENT
DTSTART;TZID=UTC:20260205T080000
DTEND;TZID=UTC:20260206T170000
DTSTAMP:20260426T042217
CREATED:20251216T090246Z
LAST-MODIFIED:20251216T090246Z
UID:808-1770278400-1770397200@bridgeinvestmentconsultancy.com
SUMMARY:4th Africa Trade and Investment Summit
DESCRIPTION:The 4th Africa Trade and Investment Summit (ATIS)\, organized by Investment Center of Africa Ltd (ICOA)\, is your chance to explore new collaboration opportunities among financial institutions\, investors\, and business leaders. \nTheme: Empowering Banking and Financial Institutions for Growth and Partnerships \n🔑 Key Benefits: \n\nConnect with leaders and experts\nDiscover new business partnerships\nStay updated on banking innovations\nEnhance credibility and trust\n\n👥 Who Can Participate? \n\n Government officials and Embassies\nCentral bank governors\nBanking and microfinance firms\nInvestors\, Entrepreneurs and CEO’s\nFintech startups and Insurance companies\nAcademics\, researchers and Venture Capitalists
URL:https://bridgeinvestmentconsultancy.com/event/4th-africa-trade-and-investment-summit/
ATTACH;FMTTYPE=image/jpeg:https://bridgeinvestmentconsultancy.com/wp-content/uploads/2025/12/event.jpeg
END:VEVENT
END:VCALENDAR